BEGIN:VCALENDAR
VERSION:2.0
PRODID:-//Drupal iCal API//EN
X-WR-CALNAME:Events items teaser
X-WR-TIMEZONE:America/Toronto
BEGIN:VTIMEZONE
TZID:America/Toronto
X-LIC-LOCATION:America/Toronto
BEGIN:DAYLIGHT
TZNAME:EDT
TZOFFSETFROM:-0500
TZOFFSETTO:-0400
DTSTART:20180311T070000
END:DAYLIGHT
BEGIN:STANDARD
TZNAME:EST
TZOFFSETFROM:-0400
TZOFFSETTO:-0500
DTSTART:20171105T060000
END:STANDARD
END:VTIMEZONE
BEGIN:VEVENT
UID:69ed74a8882cc
DTSTART;TZID=America/Toronto:20180413T100000
SEQUENCE:0
TRANSP:TRANSPARENT
DTEND;TZID=America/Toronto:20180413T100000
URL:https://uwaterloo.ca/applied-mathematics/events/masters-defence-khalida
 -parveen-explicit-runge-kutta-time
SUMMARY:Master's Defence | Khalida Parveen\, Explicit Runge-Kutta time-step
 ping\nwith the discontinuous Galerkin method
CLASS:PUBLIC
DESCRIPTION:MC 5417
DTSTAMP:20260426T021256Z
END:VEVENT
END:VCALENDAR