BEGIN:VCALENDAR
VERSION:2.0
PRODID:-//Drupal iCal API//EN
X-WR-CALNAME:Events items teaser
X-WR-TIMEZONE:America/Toronto
BEGIN:VTIMEZONE
TZID:America/Toronto
X-LIC-LOCATION:America/Toronto
BEGIN:DAYLIGHT
TZNAME:EDT
TZOFFSETFROM:-0500
TZOFFSETTO:-0400
DTSTART:20180311T070000
END:DAYLIGHT
BEGIN:STANDARD
TZNAME:EST
TZOFFSETFROM:-0400
TZOFFSETTO:-0500
DTSTART:20181104T060000
END:STANDARD
END:VTIMEZONE
BEGIN:VEVENT
UID:69ece68eaf9f7
DTSTART;TZID=America/Toronto:20181206T100000
SEQUENCE:0
TRANSP:TRANSPARENT
DTEND;TZID=America/Toronto:20181206T100000
URL:https://uwaterloo.ca/applied-mathematics/events/masters-defence-laura-c
 handler-modelling-wind-storms-lower
SUMMARY:Master's Defence | Laura Chandler\, Modelling of Wind Storms in the
 \nLower Great Lakes
CLASS:PUBLIC
DESCRIPTION:M3 3103
DTSTAMP:20260425T160638Z
END:VEVENT
END:VCALENDAR