BEGIN:VCALENDAR
VERSION:2.0
PRODID:-//Drupal iCal API//EN
X-WR-CALNAME:Events items teaser
X-WR-TIMEZONE:America/Toronto
BEGIN:VTIMEZONE
TZID:America/Toronto
X-LIC-LOCATION:America/Toronto
BEGIN:DAYLIGHT
TZNAME:EDT
TZOFFSETFROM:-0500
TZOFFSETTO:-0400
DTSTART:20180311T070000
END:DAYLIGHT
BEGIN:STANDARD
TZNAME:EST
TZOFFSETFROM:-0400
TZOFFSETTO:-0500
DTSTART:20181104T060000
END:STANDARD
END:VTIMEZONE
BEGIN:VEVENT
UID:69ed43b917169
DTSTART;TZID=America/Toronto:20181206T130000
SEQUENCE:0
TRANSP:TRANSPARENT
DTEND;TZID=America/Toronto:20181206T130000
URL:https://uwaterloo.ca/applied-mathematics/events/masters-defence-emma-mc
 kay-shape-cutoff-superconducting
SUMMARY:Master's Defence | Emma McKay\, Shape &amp; cutoff in superconducting\n
 qubits\, work fluctuations in correlation creation\, &amp; critical\ncommentar
 y
CLASS:PUBLIC
DESCRIPTION:MC 4060
DTSTAMP:20260425T224409Z
END:VEVENT
END:VCALENDAR