BEGIN:VCALENDAR
VERSION:2.0
PRODID:-//Drupal iCal API//EN
X-WR-CALNAME:Events items teaser
X-WR-TIMEZONE:America/Toronto
BEGIN:VTIMEZONE
TZID:America/Toronto
X-LIC-LOCATION:America/Toronto
BEGIN:DAYLIGHT
TZNAME:EDT
TZOFFSETFROM:-0500
TZOFFSETTO:-0400
DTSTART:20180311T070000
END:DAYLIGHT
BEGIN:STANDARD
TZNAME:EST
TZOFFSETFROM:-0400
TZOFFSETTO:-0500
DTSTART:20181104T060000
END:STANDARD
END:VTIMEZONE
BEGIN:VEVENT
UID:69ece68934bb8
DTSTART;TZID=America/Toronto:20181214T100000
SEQUENCE:0
TRANSP:TRANSPARENT
DTEND;TZID=America/Toronto:20181214T100000
URL:https://uwaterloo.ca/applied-mathematics/events/masters-defence-kwan-ts
 aan-lai-sensitivity-idealized-squall
SUMMARY:Master's Defence | Kwan Tsaan Lai\, Sensitivity of Idealized Squall
 \nLine Simulation to Resolution and Subgrid Turbulence Mixing
CLASS:PUBLIC
DESCRIPTION:MC 5417
DTSTAMP:20260425T160633Z
END:VEVENT
END:VCALENDAR