BEGIN:VCALENDAR
VERSION:2.0
PRODID:-//Drupal iCal API//EN
X-WR-CALNAME:Events items teaser
X-WR-TIMEZONE:America/Toronto
BEGIN:VTIMEZONE
TZID:America/Toronto
X-LIC-LOCATION:America/Toronto
BEGIN:DAYLIGHT
TZNAME:EDT
TZOFFSETFROM:-0500
TZOFFSETTO:-0400
DTSTART:20180311T070000
END:DAYLIGHT
BEGIN:STANDARD
TZNAME:EST
TZOFFSETFROM:-0400
TZOFFSETTO:-0500
DTSTART:20181104T060000
END:STANDARD
END:VTIMEZONE
BEGIN:VEVENT
UID:69ebee0b932d7
DTSTART;TZID=America/Toronto:20190111T103000
SEQUENCE:0
TRANSP:TRANSPARENT
DTEND;TZID=America/Toronto:20190111T103000
URL:https://uwaterloo.ca/applied-mathematics/events/masters-defence-lauren-
 burnett-wave-refraction-effects-high
SUMMARY:Master's Defence | Lauren Burnett\, Wave Refraction Effects in High
 \nIntensity Focused Ultrasound
CLASS:PUBLIC
DESCRIPTION:MC 6460
DTSTAMP:20260424T222619Z
END:VEVENT
END:VCALENDAR