BEGIN:VCALENDAR
VERSION:2.0
PRODID:-//Drupal iCal API//EN
X-WR-CALNAME:Events items teaser
X-WR-TIMEZONE:America/Toronto
BEGIN:VTIMEZONE
TZID:America/Toronto
X-LIC-LOCATION:America/Toronto
BEGIN:DAYLIGHT
TZNAME:EDT
TZOFFSETFROM:-0500
TZOFFSETTO:-0400
DTSTART:20180311T070000
END:DAYLIGHT
BEGIN:STANDARD
TZNAME:EST
TZOFFSETFROM:-0400
TZOFFSETTO:-0500
DTSTART:20181104T060000
END:STANDARD
END:VTIMEZONE
BEGIN:VEVENT
UID:69ed43d6aa3f2
DTSTART;TZID=America/Toronto:20190116T160000
SEQUENCE:0
TRANSP:TRANSPARENT
DTEND;TZID=America/Toronto:20190116T160000
URL:https://uwaterloo.ca/applied-mathematics/events/masters-defence-maria-p
 apageorgiou-impacts-relativity
SUMMARY:Master's Defence | Maria Papageorgiou\, Impacts of relativity on\nl
 ocalizability and vacuum entanglement
CLASS:PUBLIC
DESCRIPTION:QNC 4104
DTSTAMP:20260425T224438Z
END:VEVENT
END:VCALENDAR