BEGIN:VCALENDAR
VERSION:2.0
PRODID:-//Drupal iCal API//EN
X-WR-CALNAME:Events items teaser
X-WR-TIMEZONE:America/Toronto
BEGIN:VTIMEZONE
TZID:America/Toronto
X-LIC-LOCATION:America/Toronto
BEGIN:DAYLIGHT
TZNAME:EDT
TZOFFSETFROM:-0500
TZOFFSETTO:-0400
DTSTART:20180311T070000
END:DAYLIGHT
BEGIN:STANDARD
TZNAME:EST
TZOFFSETFROM:-0400
TZOFFSETTO:-0500
DTSTART:20181104T060000
END:STANDARD
END:VTIMEZONE
BEGIN:VEVENT
UID:69e6abb26c186
DTSTART;TZID=America/Toronto:20190225T160000
SEQUENCE:0
TRANSP:TRANSPARENT
DTEND;TZID=America/Toronto:20190225T160000
URL:https://uwaterloo.ca/applied-mathematics/events/applied-math-grad-collo
 quium-i-arnaud-carignan-dugas-polar
SUMMARY:Applied Math Grad Colloquium I Arnaud Carignan-Dugas\, A polar\ndec
 omposition for quantum channels to track error features in large\ncircuits
CLASS:PUBLIC
DESCRIPTION:MC 6460
DTSTAMP:20260420T224154Z
END:VEVENT
END:VCALENDAR