BEGIN:VCALENDAR
VERSION:2.0
PRODID:-//Drupal iCal API//EN
X-WR-CALNAME:Events items teaser
X-WR-TIMEZONE:America/Toronto
BEGIN:VTIMEZONE
TZID:America/Toronto
X-LIC-LOCATION:America/Toronto
BEGIN:DAYLIGHT
TZNAME:EDT
TZOFFSETFROM:-0500
TZOFFSETTO:-0400
DTSTART:20190310T070000
END:DAYLIGHT
BEGIN:STANDARD
TZNAME:EST
TZOFFSETFROM:-0400
TZOFFSETTO:-0500
DTSTART:20191103T060000
END:STANDARD
END:VTIMEZONE
BEGIN:VEVENT
UID:69ed43bb921b0
DTSTART;TZID=America/Toronto:20191213T100000
SEQUENCE:0
TRANSP:TRANSPARENT
DTEND;TZID=America/Toronto:20191213T100000
URL:https://uwaterloo.ca/applied-mathematics/events/masters-defence-tim-doc
 khorn-generative-modeling-neural
SUMMARY:Master's Defence | Tim Dockhorn\, Generative Modeling with Neural\n
 Ordinary Differential Equations
CLASS:PUBLIC
DESCRIPTION:MC 6460
DTSTAMP:20260425T224411Z
END:VEVENT
END:VCALENDAR