BEGIN:VCALENDAR
VERSION:2.0
PRODID:-//Drupal iCal API//EN
X-WR-CALNAME:Events items teaser
X-WR-TIMEZONE:America/Toronto
BEGIN:VTIMEZONE
TZID:America/Toronto
X-LIC-LOCATION:America/Toronto
BEGIN:DAYLIGHT
TZNAME:EDT
TZOFFSETFROM:-0500
TZOFFSETTO:-0400
DTSTART:20200308T070000
END:DAYLIGHT
BEGIN:STANDARD
TZNAME:EST
TZOFFSETFROM:-0400
TZOFFSETTO:-0500
DTSTART:20191103T060000
END:STANDARD
END:VTIMEZONE
BEGIN:VEVENT
UID:69ebfb5abaaac
DTSTART;TZID=America/Toronto:20200528T143000
SEQUENCE:0
TRANSP:TRANSPARENT
DTEND;TZID=America/Toronto:20200528T143000
URL:https://uwaterloo.ca/applied-mathematics/events/graduate-student-semina
 r-i-supranta-sarma-boruah-bayesian-1
SUMMARY:Graduate Student Seminar I Supranta Sarma Boruah\, Bayesian data\na
 nalysis with Markov Chain Monte Carlo (MCMC) methods 
CLASS:PUBLIC
DESCRIPTION:MS Teams 
DTSTAMP:20260424T232306Z
END:VEVENT
END:VCALENDAR