BEGIN:VCALENDAR
VERSION:2.0
PRODID:-//Drupal iCal API//EN
X-WR-CALNAME:Events items teaser
X-WR-TIMEZONE:America/Toronto
BEGIN:VTIMEZONE
TZID:America/Toronto
X-LIC-LOCATION:America/Toronto
BEGIN:DAYLIGHT
TZNAME:EDT
TZOFFSETFROM:-0500
TZOFFSETTO:-0400
DTSTART:20200308T070000
END:DAYLIGHT
BEGIN:STANDARD
TZNAME:EST
TZOFFSETFROM:-0400
TZOFFSETTO:-0500
DTSTART:20191103T060000
END:STANDARD
END:VTIMEZONE
BEGIN:VEVENT
UID:69ec2ab1da84b
DTSTART;TZID=America/Toronto:20200424T150000
SEQUENCE:0
TRANSP:TRANSPARENT
DTEND;TZID=America/Toronto:20200424T150000
URL:https://uwaterloo.ca/applied-mathematics/events/graduate-student-semina
 r-i-william-bell-pseudospectra-and
SUMMARY:Graduate Student Seminar I William Bell\, Pseudospectra and Dynamic
 s
CLASS:PUBLIC
DESCRIPTION:This talk will present a basic explanation of pseudospectra\, a
  tool\nfrom the perturbation theory of eigenvalues.
DTSTAMP:20260425T024505Z
END:VEVENT
END:VCALENDAR