BEGIN:VCALENDAR
VERSION:2.0
PRODID:-//Drupal iCal API//EN
X-WR-CALNAME:Events items teaser
X-WR-TIMEZONE:America/Toronto
BEGIN:VTIMEZONE
TZID:America/Toronto
X-LIC-LOCATION:America/Toronto
BEGIN:DAYLIGHT
TZNAME:EDT
TZOFFSETFROM:-0500
TZOFFSETTO:-0400
DTSTART:20200308T070000
END:DAYLIGHT
BEGIN:STANDARD
TZNAME:EST
TZOFFSETFROM:-0400
TZOFFSETTO:-0500
DTSTART:20191103T060000
END:STANDARD
END:VTIMEZONE
BEGIN:VEVENT
UID:69ed74ac83f94
DTSTART;TZID=America/Toronto:20200526T120000
SEQUENCE:0
TRANSP:TRANSPARENT
DTEND;TZID=America/Toronto:20200526T120000
URL:https://uwaterloo.ca/applied-mathematics/events/masters-defence-g-m-ash
 ik-rahman-numerical-simulation
SUMMARY:Master's Defence | G M (Ashik) Rahman\, Numerical Simulation of\nNo
 nlinear and Dispersive Wave Equations using Adaptive Mesh Refinement\n(AMR
 )
CLASS:PUBLIC
DESCRIPTION:MASTER'S DEFENCE | G M (ASHIK) RAHMAN\, NUMERICAL SIMULATION OF
 \nNONLINEAR AND DISPERSIVE WAVE EQUATIONS USING ADAPTIVE MESH REFINEMENT\n
 (AMR)
DTSTAMP:20260426T021300Z
END:VEVENT
END:VCALENDAR