BEGIN:VCALENDAR
VERSION:2.0
PRODID:-//Drupal iCal API//EN
X-WR-CALNAME:Events items teaser
X-WR-TIMEZONE:America/Toronto
BEGIN:VTIMEZONE
TZID:America/Toronto
X-LIC-LOCATION:America/Toronto
BEGIN:DAYLIGHT
TZNAME:EDT
TZOFFSETFROM:-0500
TZOFFSETTO:-0400
DTSTART:20200308T070000
END:DAYLIGHT
BEGIN:STANDARD
TZNAME:EST
TZOFFSETFROM:-0400
TZOFFSETTO:-0500
DTSTART:20191103T060000
END:STANDARD
END:VTIMEZONE
BEGIN:VEVENT
UID:69ebfb54c809c
DTSTART;TZID=America/Toronto:20200529T150000
SEQUENCE:0
TRANSP:TRANSPARENT
DTEND;TZID=America/Toronto:20200529T150000
URL:https://uwaterloo.ca/applied-mathematics/events/graduate-student-semina
 r-i-marina-chugunova-application
SUMMARY:Graduate Student Seminar I Marina Chugunova\, Application of Markov
 \nChains and Stochastic Differential Equations for the Hodgkin-Huxley\nMod
 el
CLASS:PUBLIC
DESCRIPTION:MS Teams 
DTSTAMP:20260424T232300Z
END:VEVENT
END:VCALENDAR