BEGIN:VCALENDAR
VERSION:2.0
PRODID:-//Drupal iCal API//EN
X-WR-CALNAME:Events items teaser
X-WR-TIMEZONE:America/Toronto
BEGIN:VTIMEZONE
TZID:America/Toronto
X-LIC-LOCATION:America/Toronto
BEGIN:DAYLIGHT
TZNAME:EDT
TZOFFSETFROM:-0500
TZOFFSETTO:-0400
DTSTART:20200308T070000
END:DAYLIGHT
BEGIN:STANDARD
TZNAME:EST
TZOFFSETFROM:-0400
TZOFFSETTO:-0500
DTSTART:20201101T060000
END:STANDARD
END:VTIMEZONE
BEGIN:VEVENT
UID:69ec2abd629f3
DTSTART;TZID=America/Toronto:20210120T120000
SEQUENCE:0
TRANSP:TRANSPARENT
DTEND;TZID=America/Toronto:20210120T120000
URL:https://uwaterloo.ca/applied-mathematics/events/graduate-student-semina
 r-i-nicholas-funai-causality
SUMMARY:Graduate Student Seminar I Nicholas Funai\, Causality violations in
 \ncavity quantum fields: the rotating wave approximation
CLASS:PUBLIC
DESCRIPTION:Zoom
DTSTAMP:20260425T024517Z
END:VEVENT
END:VCALENDAR