BEGIN:VCALENDAR
VERSION:2.0
PRODID:-//Drupal iCal API//EN
X-WR-CALNAME:Events items teaser
X-WR-TIMEZONE:America/Toronto
BEGIN:VTIMEZONE
TZID:America/Toronto
X-LIC-LOCATION:America/Toronto
BEGIN:DAYLIGHT
TZNAME:EDT
TZOFFSETFROM:-0500
TZOFFSETTO:-0400
DTSTART:20210314T070000
END:DAYLIGHT
BEGIN:STANDARD
TZNAME:EST
TZOFFSETFROM:-0400
TZOFFSETTO:-0500
DTSTART:20201101T060000
END:STANDARD
END:VTIMEZONE
BEGIN:VEVENT
UID:69ebfb5d46af9
DTSTART;TZID=America/Toronto:20210407T120000
SEQUENCE:0
TRANSP:TRANSPARENT
DTEND;TZID=America/Toronto:20210407T120000
URL:https://uwaterloo.ca/applied-mathematics/events/applied-math-seminar-ri
 chard-lopp-seminar-1-qed-coulomb
SUMMARY:Applied Math Seminar | Richard Lopp\, Seminar 1: QED in the Coulomb
 \nGauge and Equivalent Representations
CLASS:PUBLIC
DESCRIPTION:Zoom: please contact amgrad@uwaterloo for the meeting link\n\nS
 PEAKER\n\nRichard Lopp | University of Waterloo
DTSTAMP:20260424T232309Z
END:VEVENT
END:VCALENDAR