BEGIN:VCALENDAR
VERSION:2.0
PRODID:-//Drupal iCal API//EN
X-WR-CALNAME:Events items teaser
X-WR-TIMEZONE:America/Toronto
BEGIN:VTIMEZONE
TZID:America/Toronto
X-LIC-LOCATION:America/Toronto
BEGIN:DAYLIGHT
TZNAME:EDT
TZOFFSETFROM:-0500
TZOFFSETTO:-0400
DTSTART:20210314T070000
END:DAYLIGHT
BEGIN:STANDARD
TZNAME:EST
TZOFFSETFROM:-0400
TZOFFSETTO:-0500
DTSTART:20201101T060000
END:STANDARD
END:VTIMEZONE
BEGIN:VEVENT
UID:69ed43ba16195
DTSTART;TZID=America/Toronto:20210430T130000
SEQUENCE:0
TRANSP:TRANSPARENT
DTEND;TZID=America/Toronto:20210430T130000
URL:https://uwaterloo.ca/applied-mathematics/events/masters-defence-kyle-bo
 oker-hdiv-conforming-discontinuous
SUMMARY:Master's Defence | Kyle Booker\, H(div)-conforming Discontinuous\nG
 alerkin Methods for Multiphase Flow
CLASS:PUBLIC
DESCRIPTION:MS Teams ( please email amgrad@uwaterloo.ca for the meeting l
 ink)
DTSTAMP:20260425T224410Z
END:VEVENT
END:VCALENDAR