BEGIN:VCALENDAR
VERSION:2.0
PRODID:-//Drupal iCal API//EN
X-WR-CALNAME:Events items teaser
X-WR-TIMEZONE:America/Toronto
BEGIN:VTIMEZONE
TZID:America/Toronto
X-LIC-LOCATION:America/Toronto
BEGIN:DAYLIGHT
TZNAME:EDT
TZOFFSETFROM:-0500
TZOFFSETTO:-0400
DTSTART:20210314T070000
END:DAYLIGHT
BEGIN:STANDARD
TZNAME:EST
TZOFFSETFROM:-0400
TZOFFSETTO:-0500
DTSTART:20201101T060000
END:STANDARD
END:VTIMEZONE
BEGIN:VEVENT
UID:69ebe3a4e95bb
DTSTART;TZID=America/Toronto:20210623T120000
SEQUENCE:0
TRANSP:TRANSPARENT
DTEND;TZID=America/Toronto:20210623T120000
URL:https://uwaterloo.ca/applied-mathematics/events/graduate-student-semina
 r-maria-papageorgiou-seminar-2
SUMMARY:Graduate Student Seminar | Maria Papageorgiou\, Seminar 2: Detector
 \nmodels in Quantum Field Theory: the localization problem
CLASS:PUBLIC
DESCRIPTION:Zoom: please contact amgrad@uwaterloo for the meeting link
DTSTAMP:20260424T214156Z
END:VEVENT
END:VCALENDAR