BEGIN:VCALENDAR
VERSION:2.0
PRODID:-//Drupal iCal API//EN
X-WR-CALNAME:Events items teaser
X-WR-TIMEZONE:America/Toronto
BEGIN:VTIMEZONE
TZID:America/Toronto
X-LIC-LOCATION:America/Toronto
BEGIN:DAYLIGHT
TZNAME:EDT
TZOFFSETFROM:-0500
TZOFFSETTO:-0400
DTSTART:20210314T070000
END:DAYLIGHT
BEGIN:STANDARD
TZNAME:EST
TZOFFSETFROM:-0400
TZOFFSETTO:-0500
DTSTART:20201101T060000
END:STANDARD
END:VTIMEZONE
BEGIN:VEVENT
UID:69ecd154a78ca
DTSTART;TZID=America/Toronto:20210805T130000
SEQUENCE:0
TRANSP:TRANSPARENT
DTEND;TZID=America/Toronto:20210805T130000
URL:https://uwaterloo.ca/applied-mathematics/events/masters-defence-tim-hil
 l-mathematical-modelling-supraglacial
SUMMARY:Master's Defence | Tim Hill\, Mathematical modelling of supraglacia
 l\nmeltwater production and drainage
CLASS:PUBLIC
DESCRIPTION:MS Teams ( please email amgrad@uwaterloo.ca for the meeting l
 ink)
DTSTAMP:20260425T143604Z
END:VEVENT
END:VCALENDAR