BEGIN:VCALENDAR
VERSION:2.0
PRODID:-//Drupal iCal API//EN
X-WR-CALNAME:Events items teaser
X-WR-TIMEZONE:America/Toronto
BEGIN:VTIMEZONE
TZID:America/Toronto
X-LIC-LOCATION:America/Toronto
BEGIN:DAYLIGHT
TZNAME:EDT
TZOFFSETFROM:-0500
TZOFFSETTO:-0400
DTSTART:20210314T070000
END:DAYLIGHT
BEGIN:STANDARD
TZNAME:EST
TZOFFSETFROM:-0400
TZOFFSETTO:-0500
DTSTART:20201101T060000
END:STANDARD
END:VTIMEZONE
BEGIN:VEVENT
UID:69ed5b1acfc68
DTSTART;TZID=America/Toronto:20210806T130000
SEQUENCE:0
TRANSP:TRANSPARENT
DTEND;TZID=America/Toronto:20210806T130000
URL:https://uwaterloo.ca/applied-mathematics/events/masters-defence-dinesh-
 siewnarine-comparative-and
SUMMARY:Master's Defence | Dinesh Siewnarine\, A Comparative and Explorator
 y\nStudy of Homogeneous and Inhomogeneous Stratified Turbulence
CLASS:PUBLIC
DESCRIPTION:MS Teams (please email amgrad@uwaterloo.ca for the meeting li
 nk)
DTSTAMP:20260426T002354Z
END:VEVENT
END:VCALENDAR