BEGIN:VCALENDAR
VERSION:2.0
PRODID:-//Drupal iCal API//EN
X-WR-CALNAME:Events items teaser
X-WR-TIMEZONE:America/Toronto
BEGIN:VTIMEZONE
TZID:America/Toronto
X-LIC-LOCATION:America/Toronto
BEGIN:DAYLIGHT
TZNAME:EDT
TZOFFSETFROM:-0500
TZOFFSETTO:-0400
DTSTART:20210314T070000
END:DAYLIGHT
BEGIN:STANDARD
TZNAME:EST
TZOFFSETFROM:-0400
TZOFFSETTO:-0500
DTSTART:20201101T060000
END:STANDARD
END:VTIMEZONE
BEGIN:VEVENT
UID:69ec2ab35ca93
DTSTART;TZID=America/Toronto:20211105T130000
SEQUENCE:0
TRANSP:TRANSPARENT
DTEND;TZID=America/Toronto:20211105T130000
URL:https://uwaterloo.ca/applied-mathematics/events/graduate-student-semina
 r-i-alexey-smirnov-discrete-total
SUMMARY:Graduate Student Seminar I Alexey Smirnov\, Discrete total variatio
 n:\nnew definition and perspectives
CLASS:PUBLIC
DESCRIPTION:AMATH-Grad Students (MS Teams)
DTSTAMP:20260425T024507Z
END:VEVENT
END:VCALENDAR