BEGIN:VCALENDAR
VERSION:2.0
PRODID:-//Drupal iCal API//EN
X-WR-CALNAME:Events items teaser
X-WR-TIMEZONE:America/Toronto
BEGIN:VTIMEZONE
TZID:America/Toronto
X-LIC-LOCATION:America/Toronto
BEGIN:DAYLIGHT
TZNAME:EDT
TZOFFSETFROM:-0500
TZOFFSETTO:-0400
DTSTART:20210314T070000
END:DAYLIGHT
BEGIN:STANDARD
TZNAME:EST
TZOFFSETFROM:-0400
TZOFFSETTO:-0500
DTSTART:20211107T060000
END:STANDARD
END:VTIMEZONE
BEGIN:VEVENT
UID:69ed43d22ea3f
DTSTART;TZID=America/Toronto:20211206T140000
SEQUENCE:0
TRANSP:TRANSPARENT
DTEND;TZID=America/Toronto:20211206T140000
URL:https://uwaterloo.ca/applied-mathematics/events/masters-defence-fei-liu
 -optimal-locations-sensors-and
SUMMARY:Master's Defence | Fei Liu\, Optimal Locations of Sensors and Actua
 tors\nfor Control of a Pedestrian Bridge
CLASS:PUBLIC
DESCRIPTION:MS Teams (please email amgrad@uwaterloo.ca for the meeting li
 nk)
DTSTAMP:20260425T224434Z
END:VEVENT
END:VCALENDAR