BEGIN:VCALENDAR
VERSION:2.0
PRODID:-//Drupal iCal API//EN
X-WR-CALNAME:Events items teaser
X-WR-TIMEZONE:America/Toronto
BEGIN:VTIMEZONE
TZID:America/Toronto
X-LIC-LOCATION:America/Toronto
BEGIN:DAYLIGHT
TZNAME:EDT
TZOFFSETFROM:-0500
TZOFFSETTO:-0400
DTSTART:20210314T070000
END:DAYLIGHT
BEGIN:STANDARD
TZNAME:EST
TZOFFSETFROM:-0400
TZOFFSETTO:-0500
DTSTART:20211107T060000
END:STANDARD
END:VTIMEZONE
BEGIN:VEVENT
UID:69ed74af09a2d
DTSTART;TZID=America/Toronto:20220110T133000
SEQUENCE:0
TRANSP:TRANSPARENT
DTEND;TZID=America/Toronto:20220110T133000
URL:https://uwaterloo.ca/applied-mathematics/events/masters-defence-william
 -bell-mathematical-models
SUMMARY:Master's Defence | William Bell\, Mathematical Models of Mitochondr
 ia\nin the Kidney and Liver
CLASS:PUBLIC
DESCRIPTION:Zoom (please email amgrad@uwaterloo.ca for the meeting link)
DTSTAMP:20260426T021303Z
END:VEVENT
END:VCALENDAR