BEGIN:VCALENDAR
VERSION:2.0
PRODID:-//Drupal iCal API//EN
X-WR-CALNAME:Events items teaser
X-WR-TIMEZONE:America/Toronto
BEGIN:VTIMEZONE
TZID:America/Toronto
X-LIC-LOCATION:America/Toronto
BEGIN:DAYLIGHT
TZNAME:EDT
TZOFFSETFROM:-0500
TZOFFSETTO:-0400
DTSTART:20210314T070000
END:DAYLIGHT
BEGIN:STANDARD
TZNAME:EST
TZOFFSETFROM:-0400
TZOFFSETTO:-0500
DTSTART:20211107T060000
END:STANDARD
END:VTIMEZONE
BEGIN:VEVENT
UID:69ed5d04b3a25
DTSTART;TZID=America/Toronto:20220114T100000
SEQUENCE:0
TRANSP:TRANSPARENT
DTEND;TZID=America/Toronto:20220114T100000
URL:https://uwaterloo.ca/applied-mathematics/events/phd-thesis-defence-mila
 d-farsi-model-based-reinforcement
SUMMARY:PhD Thesis Defence | Milad Farsi\, Model-based Reinforcement Learni
 ng\nof Nonlinear Dynamical Systems
CLASS:PUBLIC
DESCRIPTION:MS Teams (please email amgrad@uwaterloo.ca for the meeting li
 nk)
DTSTAMP:20260426T003204Z
END:VEVENT
END:VCALENDAR