BEGIN:VCALENDAR
VERSION:2.0
PRODID:-//Drupal iCal API//EN
X-WR-CALNAME:Events items teaser
X-WR-TIMEZONE:America/Toronto
BEGIN:VTIMEZONE
TZID:America/Toronto
X-LIC-LOCATION:America/Toronto
BEGIN:DAYLIGHT
TZNAME:EDT
TZOFFSETFROM:-0500
TZOFFSETTO:-0400
DTSTART:20220313T070000
END:DAYLIGHT
BEGIN:STANDARD
TZNAME:EST
TZOFFSETFROM:-0400
TZOFFSETTO:-0500
DTSTART:20211107T060000
END:STANDARD
END:VTIMEZONE
BEGIN:VEVENT
UID:69ed43c9acbf6
DTSTART;TZID=America/Toronto:20220420T100000
SEQUENCE:0
TRANSP:TRANSPARENT
DTEND;TZID=America/Toronto:20220420T100000
URL:https://uwaterloo.ca/applied-mathematics/events/masters-defence-aaron-b
 aier-reinio-numerical-analysis
SUMMARY:Master's defence | Aaron Baier-Reinio\, Numerical analysis of\ndive
 rgence-free discontinuous Galerkin methods for incompressible flow\nproble
 ms
CLASS:PUBLIC
DESCRIPTION:MC 6460\n 
DTSTAMP:20260425T224425Z
END:VEVENT
END:VCALENDAR