BEGIN:VCALENDAR
VERSION:2.0
PRODID:-//Drupal iCal API//EN
X-WR-CALNAME:Events items teaser
X-WR-TIMEZONE:America/Toronto
BEGIN:VTIMEZONE
TZID:America/Toronto
X-LIC-LOCATION:America/Toronto
BEGIN:DAYLIGHT
TZNAME:EDT
TZOFFSETFROM:-0500
TZOFFSETTO:-0400
DTSTART:20220313T070000
END:DAYLIGHT
BEGIN:STANDARD
TZNAME:EST
TZOFFSETFROM:-0400
TZOFFSETTO:-0500
DTSTART:20211107T060000
END:STANDARD
END:VTIMEZONE
BEGIN:VEVENT
UID:69ed43c59cf59
DTSTART;TZID=America/Toronto:20220812T110000
SEQUENCE:0
TRANSP:TRANSPARENT
DTEND;TZID=America/Toronto:20220812T110000
URL:https://uwaterloo.ca/applied-mathematics/events/masters-defence-dylan-r
 uth-examining-consistency-between
SUMMARY:Master's Defence | Dylan Ruth\, Examining the consistency between\n
 subglacial hydrology and basal friction inversion modeling for Slessor\nGl
 acier\, East Antarctica
CLASS:PUBLIC
DESCRIPTION:MS Teams (please email amgrad@uwaterloo.ca for the meeting link
 )
DTSTAMP:20260425T224421Z
END:VEVENT
END:VCALENDAR