BEGIN:VCALENDAR
VERSION:2.0
PRODID:-//Drupal iCal API//EN
X-WR-CALNAME:Events items teaser
X-WR-TIMEZONE:America/Toronto
BEGIN:VTIMEZONE
TZID:America/Toronto
X-LIC-LOCATION:America/Toronto
BEGIN:DAYLIGHT
TZNAME:EDT
TZOFFSETFROM:-0500
TZOFFSETTO:-0400
DTSTART:20220313T070000
END:DAYLIGHT
BEGIN:STANDARD
TZNAME:EST
TZOFFSETFROM:-0400
TZOFFSETTO:-0500
DTSTART:20211107T060000
END:STANDARD
END:VTIMEZONE
BEGIN:VEVENT
UID:69ed14da473be
DTSTART;TZID=America/Toronto:20220913T143000
SEQUENCE:0
TRANSP:TRANSPARENT
DTEND;TZID=America/Toronto:20220913T143000
URL:https://uwaterloo.ca/applied-mathematics/events/masters-defence-andrew-
 bernakevitch-examination-parametric
SUMMARY:Master's Defence | Andrew Bernakevitch\, Examination of Parametric\
 nSubharmonic Instability of K1 Internal Tides Generated by Tidal Flow\nove
 r a Ridge
CLASS:PUBLIC
DESCRIPTION:MS Teams (please email amgrad@uwaterloo.ca for the meeting link
 )\n 
DTSTAMP:20260425T192410Z
END:VEVENT
END:VCALENDAR