BEGIN:VCALENDAR
VERSION:2.0
PRODID:-//Drupal iCal API//EN
X-WR-CALNAME:Events items teaser
X-WR-TIMEZONE:America/Toronto
BEGIN:VTIMEZONE
TZID:America/Toronto
X-LIC-LOCATION:America/Toronto
BEGIN:DAYLIGHT
TZNAME:EDT
TZOFFSETFROM:-0500
TZOFFSETTO:-0400
DTSTART:20220313T070000
END:DAYLIGHT
BEGIN:STANDARD
TZNAME:EST
TZOFFSETFROM:-0400
TZOFFSETTO:-0500
DTSTART:20221106T060000
END:STANDARD
END:VTIMEZONE
BEGIN:VEVENT
UID:69ec2ad66c6ec
DTSTART;TZID=America/Toronto:20221214T130000
SEQUENCE:0
TRANSP:TRANSPARENT
DTEND;TZID=America/Toronto:20221214T130000
URL:https://uwaterloo.ca/applied-mathematics/events/graduate-student-semina
 r-dorsa-mohammadrezaei-seminar-2
SUMMARY:Graduate Student Seminar | Dorsa Mohammadrezaei\, Seminar 2:\nEngin
 eering bioinks in 3D bioprinting
CLASS:PUBLIC
DESCRIPTION:MS Teams: Please contact amgrad@uwaterloo.ca for the meeting li
 nk\n \n\nSPEAKER\n\nDorsa Mohammadrezaei | University of Waterloo\n\nTITL
 E\n\nSEMINAR 2: ENGINEERING BIOINKS IN 3D BIOPRINTING
DTSTAMP:20260425T024542Z
END:VEVENT
END:VCALENDAR