BEGIN:VCALENDAR
VERSION:2.0
PRODID:-//Drupal iCal API//EN
X-WR-CALNAME:Events items teaser
X-WR-TIMEZONE:America/Toronto
BEGIN:VTIMEZONE
TZID:America/Toronto
X-LIC-LOCATION:America/Toronto
BEGIN:DAYLIGHT
TZNAME:EDT
TZOFFSETFROM:-0500
TZOFFSETTO:-0400
DTSTART:20220313T070000
END:DAYLIGHT
BEGIN:STANDARD
TZNAME:EST
TZOFFSETFROM:-0400
TZOFFSETTO:-0500
DTSTART:20221106T060000
END:STANDARD
END:VTIMEZONE
BEGIN:VEVENT
UID:69ed74ad0a9b7
DTSTART;TZID=America/Toronto:20221208T130000
SEQUENCE:0
TRANSP:TRANSPARENT
DTEND;TZID=America/Toronto:20221208T130000
URL:https://uwaterloo.ca/applied-mathematics/events/masters-thesis-defence-
 dorsa-sadat-hosseini-khajouei
SUMMARY:Master's Thesis Defence | Dorsa Sadat Hosseini KHajouei\, From\nAst
 rophysics of Galaxies to Binary Black Hole Mergers: Theoretical\nModelling
  of the Gravitational-Wave Bias Parameter
CLASS:PUBLIC
DESCRIPTION:MS Teams (please email amgrad@uwaterloo.ca for the meeting link
 )
DTSTAMP:20260426T021301Z
END:VEVENT
END:VCALENDAR