BEGIN:VCALENDAR
VERSION:2.0
PRODID:-//Drupal iCal API//EN
X-WR-CALNAME:Events items teaser
X-WR-TIMEZONE:America/Toronto
BEGIN:VTIMEZONE
TZID:America/Toronto
X-LIC-LOCATION:America/Toronto
BEGIN:DAYLIGHT
TZNAME:EDT
TZOFFSETFROM:-0500
TZOFFSETTO:-0400
DTSTART:20220313T070000
END:DAYLIGHT
BEGIN:STANDARD
TZNAME:EST
TZOFFSETFROM:-0400
TZOFFSETTO:-0500
DTSTART:20221106T060000
END:STANDARD
END:VTIMEZONE
BEGIN:VEVENT
UID:69ed43cfa43cf
DTSTART;TZID=America/Toronto:20221208T100000
SEQUENCE:0
TRANSP:TRANSPARENT
DTEND;TZID=America/Toronto:20221208T100000
URL:https://uwaterloo.ca/applied-mathematics/events/masters-thesis-defence-
 funmilayo-adeku-sensitivity-thermal
SUMMARY:Master's Thesis Defence | Funmilayo Adeku\, Sensitivity of the Ther
 mal\nStructure and Circulation Patterns of a Simple Idealized Lake and Lak
 e\nErie to External Driving Forces
CLASS:PUBLIC
DESCRIPTION:MC 5479
DTSTAMP:20260425T224431Z
END:VEVENT
END:VCALENDAR