BEGIN:VCALENDAR
VERSION:2.0
PRODID:-//Drupal iCal API//EN
X-WR-CALNAME:Events items teaser
X-WR-TIMEZONE:America/Toronto
BEGIN:VTIMEZONE
TZID:America/Toronto
X-LIC-LOCATION:America/Toronto
BEGIN:DAYLIGHT
TZNAME:EDT
TZOFFSETFROM:-0500
TZOFFSETTO:-0400
DTSTART:20230312T070000
END:DAYLIGHT
BEGIN:STANDARD
TZNAME:EST
TZOFFSETFROM:-0400
TZOFFSETTO:-0500
DTSTART:20221106T060000
END:STANDARD
END:VTIMEZONE
BEGIN:VEVENT
UID:69ec9e90b2275
DTSTART;TZID=America/Toronto:20230406T133000
SEQUENCE:0
TRANSP:TRANSPARENT
DTEND;TZID=America/Toronto:20230406T133000
URL:https://uwaterloo.ca/applied-mathematics/events/masters-thesis-defence-
 delaney-smith-mathematical-modelling
SUMMARY:Master's Thesis Defence | Delaney Smith\, Mathematical Modelling of
  the\nIntrarenal Renin Angiotensin System in Hypertension
CLASS:PUBLIC
DESCRIPTION:MC 6460
DTSTAMP:20260425T105928Z
END:VEVENT
END:VCALENDAR