BEGIN:VCALENDAR
VERSION:2.0
PRODID:-//Drupal iCal API//EN
X-WR-CALNAME:Events items teaser
X-WR-TIMEZONE:America/Toronto
BEGIN:VTIMEZONE
TZID:America/Toronto
X-LIC-LOCATION:America/Toronto
BEGIN:DAYLIGHT
TZNAME:EDT
TZOFFSETFROM:-0500
TZOFFSETTO:-0400
DTSTART:20230312T070000
END:DAYLIGHT
BEGIN:STANDARD
TZNAME:EST
TZOFFSETFROM:-0400
TZOFFSETTO:-0500
DTSTART:20221106T060000
END:STANDARD
END:VTIMEZONE
BEGIN:VEVENT
UID:69ed43b21fadb
DTSTART;TZID=America/Toronto:20230811T100000
SEQUENCE:0
TRANSP:TRANSPARENT
DTEND;TZID=America/Toronto:20230811T100000
URL:https://uwaterloo.ca/applied-mathematics/events/masters-thesis-defence-
 amelia-kunze-investigation-use
SUMMARY:Master's Thesis Defence | Amelia Kunze\, An investigation of the us
 e of\ngradients in imaging\, including best approximation and the Structur
 al\nSimilarity image quality measure
CLASS:PUBLIC
DESCRIPTION:MC 5479
DTSTAMP:20260425T224402Z
END:VEVENT
END:VCALENDAR