BEGIN:VCALENDAR
VERSION:2.0
PRODID:-//Drupal iCal API//EN
X-WR-CALNAME:Events items teaser
X-WR-TIMEZONE:America/Toronto
BEGIN:VTIMEZONE
TZID:America/Toronto
X-LIC-LOCATION:America/Toronto
BEGIN:DAYLIGHT
TZNAME:EDT
TZOFFSETFROM:-0500
TZOFFSETTO:-0400
DTSTART:20230312T070000
END:DAYLIGHT
BEGIN:STANDARD
TZNAME:EST
TZOFFSETFROM:-0400
TZOFFSETTO:-0500
DTSTART:20221106T060000
END:STANDARD
END:VTIMEZONE
BEGIN:VEVENT
UID:69ec2be4cadbe
DTSTART;TZID=America/Toronto:20230901T100000
SEQUENCE:0
TRANSP:TRANSPARENT
DTEND;TZID=America/Toronto:20230901T100000
URL:https://uwaterloo.ca/applied-mathematics/events/masters-thesis-defence-
 adam-winick-theory-and-mitigation
SUMMARY:Master's Thesis Defence | Adam Winick\, Theory and Mitigation of\nC
 rosstalk on Quantum Information Processor
CLASS:PUBLIC
DESCRIPTION:MS Teams (Please email amgrad@uwaterloo.ca for the meeting link
 )
DTSTAMP:20260425T025012Z
END:VEVENT
END:VCALENDAR