BEGIN:VCALENDAR
VERSION:2.0
PRODID:-//Drupal iCal API//EN
X-WR-CALNAME:Events items teaser
X-WR-TIMEZONE:America/Toronto
BEGIN:VTIMEZONE
TZID:America/Toronto
X-LIC-LOCATION:America/Toronto
BEGIN:DAYLIGHT
TZNAME:EDT
TZOFFSETFROM:-0500
TZOFFSETTO:-0400
DTSTART:20230312T070000
END:DAYLIGHT
BEGIN:STANDARD
TZNAME:EST
TZOFFSETFROM:-0400
TZOFFSETTO:-0500
DTSTART:20231105T060000
END:STANDARD
END:VTIMEZONE
BEGIN:VEVENT
UID:69ebe390de0b5
DTSTART;TZID=America/Toronto:20231120T150000
SEQUENCE:0
TRANSP:TRANSPARENT
DTEND;TZID=America/Toronto:20231120T150000
URL:https://uwaterloo.ca/applied-mathematics/events/graduate-student-semina
 r-hank-chen-2d-bulk-boundary
SUMMARY:Graduate Student Seminar | Hank Chen\, 2d bulk-boundary integrabili
 ty\nfrom categorification
CLASS:PUBLIC
DESCRIPTION:AMATH Grad Students
DTSTAMP:20260424T214136Z
END:VEVENT
END:VCALENDAR