BEGIN:VCALENDAR
VERSION:2.0
PRODID:-//Drupal iCal API//EN
X-WR-CALNAME:Events items teaser
X-WR-TIMEZONE:America/Toronto
BEGIN:VTIMEZONE
TZID:America/Toronto
X-LIC-LOCATION:America/Toronto
BEGIN:DAYLIGHT
TZNAME:EDT
TZOFFSETFROM:-0500
TZOFFSETTO:-0400
DTSTART:20230312T070000
END:DAYLIGHT
BEGIN:STANDARD
TZNAME:EST
TZOFFSETFROM:-0400
TZOFFSETTO:-0500
DTSTART:20231105T060000
END:STANDARD
END:VTIMEZONE
BEGIN:VEVENT
UID:69ece68cb1326
DTSTART;TZID=America/Toronto:20240109T083000
SEQUENCE:0
TRANSP:TRANSPARENT
DTEND;TZID=America/Toronto:20240109T083000
URL:https://uwaterloo.ca/applied-mathematics/events/masters-thesis-defence-
 ben-simpson-entropy-stable-positivity
SUMMARY:Master's Thesis Defence | Ben Simpson\, Entropy-Stable\nPositivity-
 Preserving Schemes for Multiphase Flows
CLASS:PUBLIC
DESCRIPTION:MC 6460 and MS Teams (please contact amgrad@uwaterloo.ca for me
 eting\nlink) 
DTSTAMP:20260425T160636Z
END:VEVENT
END:VCALENDAR