BEGIN:VCALENDAR
VERSION:2.0
PRODID:-//Drupal iCal API//EN
X-WR-CALNAME:Events items teaser
X-WR-TIMEZONE:America/Toronto
BEGIN:VTIMEZONE
TZID:America/Toronto
X-LIC-LOCATION:America/Toronto
BEGIN:DAYLIGHT
TZNAME:EDT
TZOFFSETFROM:-0500
TZOFFSETTO:-0400
DTSTART:20080309T070000
END:DAYLIGHT
BEGIN:STANDARD
TZNAME:EST
TZOFFSETFROM:-0400
TZOFFSETTO:-0500
DTSTART:20071104T060000
END:STANDARD
END:VTIMEZONE
BEGIN:VEVENT
UID:69ec7f1aad631
DTSTART;TZID=America/Toronto:20080709T120000
SEQUENCE:0
TRANSP:TRANSPARENT
DTEND;TZID=America/Toronto:20080709T130000
URL:https://uwaterloo.ca/applied-mathematics/events/graduate-student-semina
 r-numerical-solution-hyperbolic-pdes
LOCATION:University of Waterloo MC 5136 Canada
SUMMARY:Graduate student seminar | The Numerical Solution of Hyperbolic PDE
 's\non the Cell Processor
CLASS:PUBLIC
DESCRIPTION:SPEAKER\n\nSCOTT ROSTRUP\nUniversity of Waterloo
DTSTAMP:20260425T084514Z
END:VEVENT
END:VCALENDAR