BEGIN:VCALENDAR
VERSION:2.0
PRODID:-//Drupal iCal API//EN
X-WR-CALNAME:Events items teaser
X-WR-TIMEZONE:America/Toronto
BEGIN:VTIMEZONE
TZID:America/Toronto
X-LIC-LOCATION:America/Toronto
BEGIN:DAYLIGHT
TZNAME:EDT
TZOFFSETFROM:-0500
TZOFFSETTO:-0400
DTSTART:20240310T070000
END:DAYLIGHT
BEGIN:STANDARD
TZNAME:EST
TZOFFSETFROM:-0400
TZOFFSETTO:-0500
DTSTART:20231105T060000
END:STANDARD
END:VTIMEZONE
BEGIN:VEVENT
UID:69ec176aad6aa
DTSTART;TZID=America/Toronto:20240315T160000
SEQUENCE:0
TRANSP:TRANSPARENT
DTEND;TZID=America/Toronto:20240315T160000
URL:https://uwaterloo.ca/applied-mathematics/events/graduate-student-semina
 r-dongchang-li-quickest-change
SUMMARY:Graduate Student Seminar | Dongchang Li\, Quickest Change Detection
CLASS:PUBLIC
DESCRIPTION:Quickest change detection (QCD) is a vital procedure of system\
 nmonitoring that involves optimizing the tradeoff between a measure of\nde
 tection delay and a measure of the frequency of false alarms. From a\nfilt
 ering point of view\, we propose an effective method of tracking\nthe gene
 ralized cumulative sum (CUSUM) statistics in practice to\ndetect a change 
 in the hidden Markov models with nonlinear dynamics.
DTSTAMP:20260425T012250Z
END:VEVENT
END:VCALENDAR