BEGIN:VCALENDAR
VERSION:2.0
PRODID:-//Drupal iCal API//EN
X-WR-CALNAME:Events items teaser
X-WR-TIMEZONE:America/Toronto
BEGIN:VTIMEZONE
TZID:America/Toronto
X-LIC-LOCATION:America/Toronto
BEGIN:DAYLIGHT
TZNAME:EDT
TZOFFSETFROM:-0500
TZOFFSETTO:-0400
DTSTART:20080309T070000
END:DAYLIGHT
BEGIN:STANDARD
TZNAME:EST
TZOFFSETFROM:-0400
TZOFFSETTO:-0500
DTSTART:20071104T060000
END:STANDARD
END:VTIMEZONE
BEGIN:VEVENT
UID:69ec2ab3ddf50
DTSTART;TZID=America/Toronto:20080723T120000
SEQUENCE:0
TRANSP:TRANSPARENT
DTEND;TZID=America/Toronto:20080723T130000
URL:https://uwaterloo.ca/applied-mathematics/events/graduate-student-semina
 r-estimation-growth-parameters
LOCATION:University of Waterloo MC 5136 Canada
SUMMARY:Graduate student seminar | Estimation of growth parameters for the\
 nDrosophila's wing from a sequence of its micrographs using pattern\ntheor
 etic approach
CLASS:PUBLIC
DESCRIPTION:SPEAKER\n\nNATALIYA PORTMAN\nUniversity of Waterloo
DTSTAMP:20260425T024507Z
END:VEVENT
END:VCALENDAR