BEGIN:VCALENDAR
VERSION:2.0
PRODID:-//Drupal iCal API//EN
X-WR-CALNAME:Events items teaser
X-WR-TIMEZONE:America/Toronto
BEGIN:VTIMEZONE
TZID:America/Toronto
X-LIC-LOCATION:America/Toronto
BEGIN:DAYLIGHT
TZNAME:EDT
TZOFFSETFROM:-0500
TZOFFSETTO:-0400
DTSTART:20080309T070000
END:DAYLIGHT
BEGIN:STANDARD
TZNAME:EST
TZOFFSETFROM:-0400
TZOFFSETTO:-0500
DTSTART:20081102T060000
END:STANDARD
END:VTIMEZONE
BEGIN:VEVENT
UID:69ec2aba61f5c
DTSTART;TZID=America/Toronto:20090225T123000
SEQUENCE:0
TRANSP:TRANSPARENT
DTEND;TZID=America/Toronto:20090225T133000
URL:https://uwaterloo.ca/applied-mathematics/events/graduate-student-semina
 r-what-why-and-how-image-denoising
LOCATION:University of Waterloo MC 5158 Canada
SUMMARY:Graduate student seminar | The What\, Why and How of Image Denoisin
 g
CLASS:PUBLIC
DESCRIPTION:SPEAKER\n\nDOMINIQUE BRUNET\nUniversity of Waterloo
DTSTAMP:20260425T024514Z
END:VEVENT
END:VCALENDAR