BEGIN:VCALENDAR
VERSION:2.0
PRODID:-//Drupal iCal API//EN
X-WR-CALNAME:Events items teaser
X-WR-TIMEZONE:America/Toronto
BEGIN:VTIMEZONE
TZID:America/Toronto
X-LIC-LOCATION:America/Toronto
BEGIN:DAYLIGHT
TZNAME:EDT
TZOFFSETFROM:-0500
TZOFFSETTO:-0400
DTSTART:20140309T070000
END:DAYLIGHT
BEGIN:STANDARD
TZNAME:EST
TZOFFSETFROM:-0400
TZOFFSETTO:-0500
DTSTART:20141102T060000
END:STANDARD
END:VTIMEZONE
BEGIN:VEVENT
UID:69eac6c702157
DTSTART;TZID=America/Toronto:20150225T133000
SEQUENCE:0
TRANSP:TRANSPARENT
DTEND;TZID=America/Toronto:20150225T133000
URL:https://uwaterloo.ca/architecture/events/thesis-defence-rakshya-gauchan
LOCATION:ARC - School of Architecture 7 Melville Street South Room 1110 (Fo
 under’s Lounge) Cambridge ON N1S 2H4 Canada
SUMMARY:Thesis Defence: Rakshya Gauchan
CLASS:PUBLIC
DESCRIPTION:Of the thesis entitled: HIDDEN STORIES: RESURRECTING THE GARRI
 SON\nCREEK THROUGH A DECENTRALIZED STORMWATER MANAGEMENT SYSTEM\nABSTRACT:
DTSTAMP:20260424T012631Z
END:VEVENT
END:VCALENDAR