BEGIN:VCALENDAR
VERSION:2.0
PRODID:-//Drupal iCal API//EN
X-WR-CALNAME:Events items teaser
X-WR-TIMEZONE:America/Toronto
BEGIN:VTIMEZONE
TZID:America/Toronto
X-LIC-LOCATION:America/Toronto
BEGIN:DAYLIGHT
TZNAME:EDT
TZOFFSETFROM:-0500
TZOFFSETTO:-0400
DTSTART:20150308T070000
END:DAYLIGHT
BEGIN:STANDARD
TZNAME:EST
TZOFFSETFROM:-0400
TZOFFSETTO:-0500
DTSTART:20141102T060000
END:STANDARD
END:VTIMEZONE
BEGIN:VEVENT
UID:69e92d379b3d8
DTSTART;TZID=America/Toronto:20150327T100000
SEQUENCE:0
TRANSP:TRANSPARENT
DTEND;TZID=America/Toronto:20150327T100000
URL:https://uwaterloo.ca/architecture/events/thesis-defence-holland-young
LOCATION:ARC - School of Architecture 7 Melville Street South Cummings Lect
 ure Theatre Cambridge ON N1S 2H4 Canada
SUMMARY:Thesis Defence: Holland Young
CLASS:PUBLIC
DESCRIPTION:Of the thesis entitled: BUILDING FICTION: THE ARCHITECTURE OF\
 nNARRATIVE IN HARRY POTTER\nABSTRACT:
DTSTAMP:20260422T201903Z
END:VEVENT
END:VCALENDAR