BEGIN:VCALENDAR
VERSION:2.0
PRODID:-//Drupal iCal API//EN
X-WR-CALNAME:Events items teaser
X-WR-TIMEZONE:America/Toronto
BEGIN:VTIMEZONE
TZID:America/Toronto
X-LIC-LOCATION:America/Toronto
BEGIN:DAYLIGHT
TZNAME:EDT
TZOFFSETFROM:-0500
TZOFFSETTO:-0400
DTSTART:20230312T070000
END:DAYLIGHT
BEGIN:STANDARD
TZNAME:EST
TZOFFSETFROM:-0400
TZOFFSETTO:-0500
DTSTART:20221106T060000
END:STANDARD
END:VTIMEZONE
BEGIN:VEVENT
UID:69e7c63e287ef
DTSTART;TZID=America/Toronto:20230908T100000
SEQUENCE:0
TRANSP:TRANSPARENT
DTEND;TZID=America/Toronto:20230908T120000
URL:https://uwaterloo.ca/architecture/events/thesis-defence-matthew-dlugosz
LOCATION:ARC - School of Architecture 7 Melville Street South Cambridge ON 
 N1S 2H4 Canada
SUMMARY:Thesis defence: Matthew Dlugosz
CLASS:PUBLIC
DESCRIPTION:PARKDALE PEOPLE’S PALACE: RETHINKING A HERITAGE CHURCH AS\nRE
 VITALIZED SOCIAL INFRASTRUCTURE\nThesis defence: Matthew Dlugosz.
DTSTAMP:20260421T184726Z
END:VEVENT
END:VCALENDAR