BEGIN:VCALENDAR
VERSION:2.0
PRODID:-//Drupal iCal API//EN
X-WR-CALNAME:Events items teaser
X-WR-TIMEZONE:America/Toronto
BEGIN:VTIMEZONE
TZID:America/Toronto
X-LIC-LOCATION:America/Toronto
BEGIN:DAYLIGHT
TZNAME:EDT
TZOFFSETFROM:-0500
TZOFFSETTO:-0400
DTSTART:20150308T070000
END:DAYLIGHT
BEGIN:DAYLIGHT
TZNAME:EDT
TZOFFSETFROM:-0500
TZOFFSETTO:-0400
DTSTART:20160313T070000
END:DAYLIGHT
BEGIN:STANDARD
TZNAME:EST
TZOFFSETFROM:-0400
TZOFFSETTO:-0500
DTSTART:20151101T060000
END:STANDARD
END:VTIMEZONE
BEGIN:VEVENT
UID:69e4c94c40356
DTSTART;TZID=America/Toronto:20160229T183000
SEQUENCE:0
TRANSP:TRANSPARENT
DTEND;TZID=America/Toronto:20160410T163000
URL:https://uwaterloo.ca/architecture/events/drawing-ambience-alvin-boyarsk
 y-and-architectural
LOCATION:ARC - School of Architecture 7 Melville Street South Design at Riv
 erside Gallery Cambridge ON N1S 2H4 Canada
SUMMARY:Drawing Ambience: Alvin Boyarsky and the Architectural Association
CLASS:PUBLIC
DESCRIPTION:The first public museum exhibition of architectural drawings fr
 om the\nprivate collection of the noted educator Alvin Boyarsky. The\ncoll
 ection features early drawings by some of the most prominent\narchitects p
 racticing today—Frank Gehry\, Zaha Hadid\, Daniel\nLibeskind\, Rem Koolh
 aas\, and Bernard Tschumi\, among many\nothers. _Drawing Ambience_ offer
 s a rare glimpse into a pivotal\nmoment in architectural history and the i
 maginative spirit of drawing\nthat was and continues to be instrumental to
  the development of the\nfield.
DTSTAMP:20260419T122340Z
END:VEVENT
END:VCALENDAR