BEGIN:VCALENDAR
VERSION:2.0
PRODID:-//Drupal iCal API//EN
X-WR-CALNAME:Events items teaser
X-WR-TIMEZONE:America/Toronto
BEGIN:VTIMEZONE
TZID:America/Toronto
X-LIC-LOCATION:America/Toronto
BEGIN:DAYLIGHT
TZNAME:EDT
TZOFFSETFROM:-0500
TZOFFSETTO:-0400
DTSTART:20160313T070000
END:DAYLIGHT
BEGIN:STANDARD
TZNAME:EST
TZOFFSETFROM:-0400
TZOFFSETTO:-0500
DTSTART:20151101T060000
END:STANDARD
END:VTIMEZONE
BEGIN:VEVENT
UID:69e5dc5003141
DTSTART;TZID=America/Toronto:20160402T093000
SEQUENCE:0
TRANSP:TRANSPARENT
DTEND;TZID=America/Toronto:20160402T213000
URL:https://uwaterloo.ca/architecture/events/representing-ambience-today-tr
 acing-materiality-virtual
LOCATION:ARC - School of Architecture 7 Melville Street South Design at Riv
 erside Gallery Cambridge N1S 2H4 Canada
SUMMARY:Representing Ambience Today: Tracing the Materiality of Virtual\nOb
 jects Symposium
CLASS:PUBLIC
DESCRIPTION:[Nigel Coates\, 'Ski Station\,' 1982]\n\nThe School of Architec
 ture at the University of Waterloo invites\nalumni and friends to the _REP
 RESENTING AMBIENCE TODAY: TRACING THE\nMATERIALITY OF VIRTUAL OBJECTS SYM
 POSIUM_.
DTSTAMP:20260420T075704Z
END:VEVENT
END:VCALENDAR