BEGIN:VCALENDAR
VERSION:2.0
PRODID:-//Drupal iCal API//EN
X-WR-CALNAME:Events items teaser
X-WR-TIMEZONE:America/Toronto
BEGIN:VTIMEZONE
TZID:America/Toronto
X-LIC-LOCATION:America/Toronto
BEGIN:DAYLIGHT
TZNAME:EDT
TZOFFSETFROM:-0500
TZOFFSETTO:-0400
DTSTART:20160313T070000
END:DAYLIGHT
BEGIN:STANDARD
TZNAME:EST
TZOFFSETFROM:-0400
TZOFFSETTO:-0500
DTSTART:20151101T060000
END:STANDARD
END:VTIMEZONE
BEGIN:VEVENT
UID:69e9fa7b546a9
DTSTART;TZID=America/Toronto:20160405T153000
SEQUENCE:0
TRANSP:TRANSPARENT
DTEND;TZID=America/Toronto:20160405T153000
URL:https://uwaterloo.ca/architecture/events/thesis-defence-mila-wiggins
LOCATION:ARC - School of Architecture 7 Melville Street South Room 2026 Cam
 bridge ON N1S 2H4 Canada
SUMMARY:Thesis Defence: Mila Wiggins
CLASS:PUBLIC
DESCRIPTION:Of the thesis entitled: TRANSIT-ORIENTED-MICRO-DEVELOPMENT: S
 MALL\nMARKETPLACES FOR MARYVALE\, PHOENIX\, ARIZONA\n\nABSTRACT:
DTSTAMP:20260423T105451Z
END:VEVENT
END:VCALENDAR