BEGIN:VCALENDAR
VERSION:2.0
PRODID:-//Drupal iCal API//EN
X-WR-CALNAME:Events items teaser
X-WR-TIMEZONE:America/Toronto
BEGIN:VTIMEZONE
TZID:America/Toronto
X-LIC-LOCATION:America/Toronto
BEGIN:DAYLIGHT
TZNAME:EDT
TZOFFSETFROM:-0500
TZOFFSETTO:-0400
DTSTART:20160313T070000
END:DAYLIGHT
BEGIN:STANDARD
TZNAME:EST
TZOFFSETFROM:-0400
TZOFFSETTO:-0500
DTSTART:20151101T060000
END:STANDARD
END:VTIMEZONE
BEGIN:VEVENT
UID:69eb182ed3e98
DTSTART;TZID=America/Toronto:20160616T180000
SEQUENCE:0
TRANSP:TRANSPARENT
DTEND;TZID=America/Toronto:20160616T180000
URL:https://uwaterloo.ca/architecture/events/alison-brooks-lecture-1500011-
 context-culture-building-craft
LOCATION:ARC - School of Architecture 7 Melville Street South Cummings Lect
 ure Theatre Cambridge ON N1S 2H4 Canada
SUMMARY:Alison Brooks Lecture : 1:5000/1:1 Context\, Culture &amp; Building Cra
 ft
CLASS:PUBLIC
DESCRIPTION:_1:5000/1:1 CONTEXT\, CULTURE &amp; BUILDING CRAFT_\n\n_Alison Bro
 oks will discuss her practice’s current work\, revealing\ntheir syntheti
 c approach to the making of buildings and the making of\ncities\, in the c
 ontext of London’s resurgent urban culture._
DTSTAMP:20260424T071350Z
END:VEVENT
END:VCALENDAR