BEGIN:VCALENDAR
VERSION:2.0
PRODID:-//Drupal iCal API//EN
X-WR-CALNAME:Events items teaser
X-WR-TIMEZONE:America/Toronto
BEGIN:VTIMEZONE
TZID:America/Toronto
X-LIC-LOCATION:America/Toronto
BEGIN:DAYLIGHT
TZNAME:EDT
TZOFFSETFROM:-0500
TZOFFSETTO:-0400
DTSTART:20160313T070000
END:DAYLIGHT
BEGIN:STANDARD
TZNAME:EST
TZOFFSETFROM:-0400
TZOFFSETTO:-0500
DTSTART:20151101T060000
END:STANDARD
END:VTIMEZONE
BEGIN:VEVENT
UID:69e75b506eeaa
DTSTART;TZID=America/Toronto:20160624T100000
SEQUENCE:0
TRANSP:TRANSPARENT
DTEND;TZID=America/Toronto:20160624T100000
URL:https://uwaterloo.ca/architecture/events/thesis-defence-carol-kaifosh
LOCATION:12 Water Street\, Unit 6 Cambridge ON N1R 3B1 Canada
SUMMARY:Thesis Defence: Carol Kaifosh
CLASS:PUBLIC
DESCRIPTION:Of the thesis entitled: SHELF LIFE: A NEW DOMESTIC LANDSCAPE\n
 \nABSTRACT:
DTSTAMP:20260421T111112Z
END:VEVENT
END:VCALENDAR