BEGIN:VCALENDAR
VERSION:2.0
PRODID:-//Drupal iCal API//EN
X-WR-CALNAME:Events items teaser
X-WR-TIMEZONE:America/Toronto
BEGIN:VTIMEZONE
TZID:America/Toronto
X-LIC-LOCATION:America/Toronto
BEGIN:DAYLIGHT
TZNAME:EDT
TZOFFSETFROM:-0500
TZOFFSETTO:-0400
DTSTART:20250309T070000
END:DAYLIGHT
BEGIN:STANDARD
TZNAME:EST
TZOFFSETFROM:-0400
TZOFFSETTO:-0500
DTSTART:20241103T060000
END:STANDARD
END:VTIMEZONE
BEGIN:VEVENT
UID:69e68fbc4be21
DTSTART;TZID=America/Toronto:20250326T183000
SEQUENCE:0
TRANSP:TRANSPARENT
DTEND;TZID=America/Toronto:20250326T203000
URL:https://uwaterloo.ca/architecture/events/behind-build-podcast-special-l
 ive-recording-waterloo
LOCATION:ARC - School of Architecture 7 Melville Street South Laurence Cumm
 ings Lecture Theatre Cambridge ON N1S 2H4 Canada
SUMMARY:Behind the Build Podcast – Special Live Recording at Waterloo\nAr
 chitecture
CLASS:PUBLIC
DESCRIPTION:Beyond the Build podcast hosts a special live taping of an epis
 ode\nprofiling several Waterloo Architecture alumni in the Cummings Lectur
 e\nTheatre on March 26\, 2025.
DTSTAMP:20260420T204236Z
END:VEVENT
END:VCALENDAR