BEGIN:VCALENDAR
VERSION:2.0
PRODID:-//Drupal iCal API//EN
X-WR-CALNAME:Events items teaser
X-WR-TIMEZONE:America/Toronto
BEGIN:VTIMEZONE
TZID:America/Toronto
X-LIC-LOCATION:America/Toronto
BEGIN:DAYLIGHT
TZNAME:EDT
TZOFFSETFROM:-0500
TZOFFSETTO:-0400
DTSTART:20250309T070000
END:DAYLIGHT
BEGIN:STANDARD
TZNAME:EST
TZOFFSETFROM:-0400
TZOFFSETTO:-0500
DTSTART:20241103T060000
END:STANDARD
END:VTIMEZONE
BEGIN:VEVENT
UID:69e585c041c9f
DTSTART;VALUE=DATE:20250922
SEQUENCE:0
TRANSP:TRANSPARENT
DTEND;VALUE=DATE:20250928
URL:https://uwaterloo.ca/architecture/events/all-flourishing-mutual-re-imag
 ining-cambridge-farmers-market
SUMMARY:All Flourishing is Mutual: Re-Imagining the Cambridge Farmers'\nMa
 rket  A Student Showcase by The University of Waterloo School of\nArchite
 cture Class of 2025
CLASS:PUBLIC
DESCRIPTION:ALL FLOURISHING IS MUTUAL: _RE-IMAGINING THE CAMBRIDGE FARMERS
 '\nMARKET_ \n_A STUDENT SHOWCASE BY THE UNIVERSITY OF WATERLOO SCHOOL OF\
 nARCHITECTURE CLASS OF 2025_\n \nSeptember 22 - 27\nCambridge City Hall\,
  Ground Floor - Bowman Room\n55 Dickson Street
X-MICROSOFT-CDO-ALLDAYEVENT:TRUE
DTSTAMP:20260420T014744Z
END:VEVENT
END:VCALENDAR