BEGIN:VCALENDAR
VERSION:2.0
PRODID:-//Drupal iCal API//EN
X-WR-CALNAME:Events items teaser
X-WR-TIMEZONE:America/Toronto
BEGIN:VTIMEZONE
TZID:America/Toronto
X-LIC-LOCATION:America/Toronto
BEGIN:DAYLIGHT
TZNAME:EDT
TZOFFSETFROM:-0500
TZOFFSETTO:-0400
DTSTART:20160313T070000
END:DAYLIGHT
BEGIN:STANDARD
TZNAME:EST
TZOFFSETFROM:-0400
TZOFFSETTO:-0500
DTSTART:20161106T060000
END:STANDARD
END:VTIMEZONE
BEGIN:VEVENT
UID:69e89d1ca4211
DTSTART;TZID=America/Toronto:20161117T183000
SEQUENCE:0
TRANSP:TRANSPARENT
DTEND;TZID=America/Toronto:20161117T183000
URL:https://uwaterloo.ca/architecture/events/arriscraft-lecture-renato-rizz
 i
LOCATION:ARC - School of Architecture 7 Melville Street South Cummings Lect
 ure Theatre Cambridge ON N1S 2H4 Canada
SUMMARY:Arriscraft Lecture: Renato Rizzi
CLASS:PUBLIC
DESCRIPTION:_LONELY ARCHITECTURE: SOUL\, MATTER_
DTSTAMP:20260422T100412Z
END:VEVENT
END:VCALENDAR