BEGIN:VCALENDAR
VERSION:2.0
PRODID:-//Drupal iCal API//EN
X-WR-CALNAME:Events items teaser
X-WR-TIMEZONE:America/Toronto
BEGIN:VTIMEZONE
TZID:America/Toronto
X-LIC-LOCATION:America/Toronto
BEGIN:DAYLIGHT
TZNAME:EDT
TZOFFSETFROM:-0500
TZOFFSETTO:-0400
DTSTART:20170312T070000
END:DAYLIGHT
BEGIN:STANDARD
TZNAME:EST
TZOFFSETFROM:-0400
TZOFFSETTO:-0500
DTSTART:20171105T060000
END:STANDARD
END:VTIMEZONE
BEGIN:VEVENT
UID:69e64942b14f3
DTSTART;TZID=America/Toronto:20180310T100000
SEQUENCE:0
TRANSP:TRANSPARENT
DTEND;TZID=America/Toronto:20180310T160000
URL:https://uwaterloo.ca/architecture/events/march-break-open-house
SUMMARY:March Break Open House
CLASS:PUBLIC
DESCRIPTION:The School of Architecture invites all interested students\, al
 ong with\ntheir parents and friends to join us at 7 MELVILLE ST\, S.\, C
 AMBRIDGE\non Saturday\, March 10\, 2018 from 10 am to 4 pm. This is a gre
 at\nopportunity to visit the Architecture campus\, speak to professors and
 \ncurrent students\, tour the facilities\, see demonstrations and displays
 \nof student work\, portfolios and attend a program information session.
DTSTAMP:20260420T154154Z
END:VEVENT
END:VCALENDAR