BEGIN:VCALENDAR
VERSION:2.0
PRODID:-//Drupal iCal API//EN
X-WR-CALNAME:Events items teaser
X-WR-TIMEZONE:America/Toronto
BEGIN:VTIMEZONE
TZID:America/Toronto
X-LIC-LOCATION:America/Toronto
BEGIN:DAYLIGHT
TZNAME:EDT
TZOFFSETFROM:-0500
TZOFFSETTO:-0400
DTSTART:20160313T070000
END:DAYLIGHT
BEGIN:STANDARD
TZNAME:EST
TZOFFSETFROM:-0400
TZOFFSETTO:-0500
DTSTART:20161106T060000
END:STANDARD
END:VTIMEZONE
BEGIN:VEVENT
UID:69e4d393c55dd
DTSTART;TZID=America/Toronto:20161219T143000
SEQUENCE:0
TRANSP:TRANSPARENT
DTEND;TZID=America/Toronto:20161219T143000
URL:https://uwaterloo.ca/architecture/events/thesis-defence-mahalia-thomas
LOCATION:ARC - School of Architecture 7 Melville Street South Room 2026 Cam
 bridge ON N1S 2H4 Canada
SUMMARY:Thesis Defence: Mahalia Thomas
CLASS:PUBLIC
DESCRIPTION:Of the thesis entitled: DRIFTING OUTSIDE OF THE CITY\n\nABSTR
 ACT:
DTSTAMP:20260419T130731Z
END:VEVENT
END:VCALENDAR